BEGIN:VCALENDAR
VERSION:2.0
PRODID:-//wp-events-plugin.com//7.2.3.1//EN
BEGIN:VEVENT
UID:5995@gtv-frankenhausen.de
DTSTART;TZID=Europe/Berlin:20280207T180000
DTEND;TZID=Europe/Berlin:20280207T190000
DTSTAMP:20250225T115700Z
URL:https://www.gtv-frankenhausen.de/events/snickers-kindertanzen-2028-02-
 07/
SUMMARY:Jugendgarde
DESCRIPTION:Halle
CATEGORIES:Tanz
END:VEVENT
BEGIN:VTIMEZONE
TZID:Europe/Berlin
X-LIC-LOCATION:Europe/Berlin
BEGIN:STANDARD
DTSTART:20271031T020000
TZOFFSETFROM:+0200
TZOFFSETTO:+0100
TZNAME:CET
END:STANDARD
END:VTIMEZONE
END:VCALENDAR