BEGIN:VCALENDAR
VERSION:2.0
PRODID:-//wp-events-plugin.com//7.2.3.1//EN
BEGIN:VEVENT
UID:7202@gtv-frankenhausen.de
DTSTART;TZID=Europe/Berlin:20270302T180000
DTEND;TZID=Europe/Berlin:20270302T200000
DTSTAMP:20250225T115627Z
URL:https://www.gtv-frankenhausen.de/events/seven-ups-2027-03-02/
SUMMARY:Damengarde
DESCRIPTION:18-20 Uhr Halle
CATEGORIES:Tanz
END:VEVENT
BEGIN:VTIMEZONE
TZID:Europe/Berlin
X-LIC-LOCATION:Europe/Berlin
BEGIN:STANDARD
DTSTART:20261025T020000
TZOFFSETFROM:+0200
TZOFFSETTO:+0100
TZNAME:CET
END:STANDARD
END:VTIMEZONE
END:VCALENDAR